BEGIN:VCALENDAR
VERSION:2.0
PRODID:-//Plone.org//NONSGML plone.app.event//EN
X-WR-TIMEZONE:Europe/Rome
BEGIN:VEVENT
SUMMARY:Trauma: update and organization
DTSTART;VALUE=DATE-TIME:20140214T103000Z
DTEND;VALUE=DATE-TIME:20140215T160000Z
DTSTAMP;VALUE=DATE-TIME:20260423T102005Z
UID:4c0a3cc22a615f810a317e31c8623405@127.0.0.1:8095
CATEGORIES:Convegno
CONTACT:Noema Congressi\, info@noemacongressi.it
CREATED;VALUE=DATE-TIME:20140212T163705Z
DESCRIPTION:IX Edizione
LAST-MODIFIED;VALUE=DATE-TIME:20150703T122647Z
LOCATION:B4 Bologna Tower Hotel - Bologna 
URL:https://www.ausl.bologna.it/eventi/archivio/auslevent.2014-02-12.78382
 28904
END:VEVENT
END:VCALENDAR
