BEGIN:VCALENDAR
VERSION:2.0
PRODID:-//Plone.org//NONSGML plone.app.event//EN
X-WR-TIMEZONE:Europe/Rome
BEGIN:VEVENT
SUMMARY:Punto nascita di Bentivoglio 
DTSTART;VALUE=DATE-TIME:20140826T123000Z
DTEND;VALUE=DATE-TIME:20140826T143000Z
DTSTAMP;VALUE=DATE-TIME:20260420T080223Z
UID:432a832927982fb1a2f9d8cab7747c41@127.0.0.1:8095
CATEGORIES:Presentazione
CONTACT:051/6644008
CREATED;VALUE=DATE-TIME:20140206T153642Z
DESCRIPTION:Presentazione 
LAST-MODIFIED;VALUE=DATE-TIME:20150514T110324Z
LOCATION:Ospedale di Bentivoglio\, Aula Gialla - Bentivoglio (BO)
URL:https://www.ausl.bologna.it/eventi/archivio/auslevent.2014-02-06.67119
 76065
END:VEVENT
END:VCALENDAR
