BEGIN:VCALENDAR
VERSION:2.0
PRODID:-//Plone.org//NONSGML plone.app.event//EN
X-WR-TIMEZONE:Europe/Rome
BEGIN:VEVENT
SUMMARY:La Sanità in Valsamoggia. Comune di Valsamoggia
DTSTART;VALUE=DATE-TIME:20140213T193000Z
DTEND;VALUE=DATE-TIME:20140213T213000Z
DTSTAMP;VALUE=DATE-TIME:20260423T103133Z
UID:adf64533e0ed136b1d98042ee714e2e2@127.0.0.1:8095
ATTENDEE;CN="La cittadinanza è invitata";ROLE=REQ-PARTICIPANT:La cittadin
 anza è invitata
CATEGORIES:Incontro
CREATED;VALUE=DATE-TIME:20140206T154553Z
DESCRIPTION:Incontro 
LAST-MODIFIED;VALUE=DATE-TIME:20150515T101543Z
LOCATION:Rocca di Bazzano\, Via Contessa Matilde\, 10 - Bazzano (BO)
URL:https://www.ausl.bologna.it/eventi/archivio/auslevent.2014-02-06.37805
 97540
END:VEVENT
END:VCALENDAR
