BEGIN:VCALENDAR
VERSION:2.0
PRODID:-//Plone.org//NONSGML plone.app.event//EN
X-WR-TIMEZONE:Europe/Rome
BEGIN:VEVENT
SUMMARY:Punto nascita di Bentivoglio
DTSTART;VALUE=DATE-TIME:20140722T123000Z
DTEND;VALUE=DATE-TIME:20140722T143000Z
DTSTAMP;VALUE=DATE-TIME:20260421T101702Z
UID:c334c305f6eb081021205f1ba88d44c0@127.0.0.1:8095
CATEGORIES:Incontro
CONTACT:051/6644008
CREATED;VALUE=DATE-TIME:20140205T145204Z
DESCRIPTION:Presentazione 
LAST-MODIFIED;VALUE=DATE-TIME:20150514T110323Z
LOCATION:Ospedale di Bentivoglio Aula Gialla - Bentivoglio (BO)
URL:https://www.ausl.bologna.it/eventi/archivio/auslevent.2014-02-05.83472
 82964
END:VEVENT
END:VCALENDAR
