BEGIN:VCALENDAR
VERSION:2.0
PRODID:-//Plone.org//NONSGML plone.app.event//EN
X-WR-TIMEZONE:Europe/Rome
BEGIN:VEVENT
SUMMARY:Punto nascita di Bentivoglio
DTSTART;VALUE=DATE-TIME:20140318T133000Z
DTEND;VALUE=DATE-TIME:20140318T153000Z
DTSTAMP;VALUE=DATE-TIME:20260421T102404Z
UID:1881fc54f6fd6b58f0b9675b5cad63e5@127.0.0.1:8095
CATEGORIES:Incontro
CONTACT:051/6644008
CREATED;VALUE=DATE-TIME:20140205T143644Z
DESCRIPTION:Presentazione 
LAST-MODIFIED;VALUE=DATE-TIME:20150514T110313Z
LOCATION:Ospedale di Bentivoglio Aula Gialla - Bentivoglio (BO)
URL:https://www.ausl.bologna.it/eventi/archivio/auslevent.2014-02-05.79790
 09297
END:VEVENT
END:VCALENDAR
