BEGIN:VCALENDAR
VERSION:2.0
PRODID:-//Plone.org//NONSGML plone.app.event//EN
X-WR-TIMEZONE:Europe/Rome
BEGIN:VEVENT
SUMMARY:Punto nascita di Bentivoglio
DTSTART;VALUE=DATE-TIME:20140624T123000Z
DTEND;VALUE=DATE-TIME:20140624T143000Z
DTSTAMP;VALUE=DATE-TIME:20260423T103129Z
UID:3429496ed0043b72f38997bebf2d0e92@127.0.0.1:8095
CATEGORIES:Incontro
CONTACT:051/6644008
CREATED;VALUE=DATE-TIME:20140205T144929Z
DESCRIPTION:Presentazione 
LAST-MODIFIED;VALUE=DATE-TIME:20150514T110319Z
LOCATION:Ospedale di Bentivoglio Aula Gialla - Bentivoglio (BO)
URL:https://www.ausl.bologna.it/eventi/archivio/auslevent.2014-02-05.64424
 81125
END:VEVENT
END:VCALENDAR
