BEGIN:VCALENDAR
VERSION:2.0
PRODID:-//Plone.org//NONSGML plone.app.event//EN
X-WR-TIMEZONE:Europe/Rome
BEGIN:VEVENT
SUMMARY:Punto nascita di Bentivoglio
DTSTART;VALUE=DATE-TIME:20140520T123000Z
DTEND;VALUE=DATE-TIME:20140520T143000Z
DTSTAMP;VALUE=DATE-TIME:20260423T103112Z
UID:d178a8919d28ee8412ada127a2803c65@127.0.0.1:8095
CATEGORIES:Incontro
CONTACT:051/6644008
CREATED;VALUE=DATE-TIME:20140205T144449Z
DESCRIPTION:Presentazione 
LAST-MODIFIED;VALUE=DATE-TIME:20150514T110318Z
LOCATION:Ospedale di Bentivoglio Aula Gialla - Bentivoglio (BO)
URL:https://www.ausl.bologna.it/eventi/archivio/auslevent.2014-02-05.40100
 24083
END:VEVENT
END:VCALENDAR
