BEGIN:VCALENDAR
VERSION:2.0
PRODID:-//Plone.org//NONSGML plone.app.event//EN
X-WR-TIMEZONE:Europe/Rome
BEGIN:VEVENT
SUMMARY:III Zoom Journal Club 2013
DTSTART;VALUE=DATE-TIME:20140221T083000Z
DTEND;VALUE=DATE-TIME:20140221T163000Z
DTSTAMP;VALUE=DATE-TIME:20260421T102620Z
UID:03b5f4cd25d1f1a8c3930136a7b67d08@127.0.0.1:8095
CATEGORIES:Convegno
CONTACT:040/7600101\, eventi@alphastudio.it
CREATED;VALUE=DATE-TIME:20140205T121810Z
DESCRIPTION:Convegno 
LAST-MODIFIED;VALUE=DATE-TIME:20150514T110132Z
LOCATION:NH Hotel Bologna - Piazza XX Settembre\, 2 - Bologna 
URL:https://www.ausl.bologna.it/eventi/archivio/auslevent.2014-02-05.23182
 11051
END:VEVENT
END:VCALENDAR
