BEGIN:VCALENDAR
VERSION:2.0
PRODID:-//Plone.org//NONSGML plone.app.event//EN
X-WR-TIMEZONE:Europe/Rome
BEGIN:VEVENT
SUMMARY:Punto nascita di Bentivoglio
DTSTART;VALUE=DATE-TIME:20140415T123000Z
DTEND;VALUE=DATE-TIME:20140415T143000Z
DTSTAMP;VALUE=DATE-TIME:20260421T102147Z
UID:519fa8991052a71a5c85d268dfdd3f97@127.0.0.1:8095
CATEGORIES:Incontro
CONTACT:051/6644008
CREATED;VALUE=DATE-TIME:20140205T144216Z
DESCRIPTION:Presentazione 
LAST-MODIFIED;VALUE=DATE-TIME:20150514T110314Z
LOCATION:Ospedale di Bentivoglio Aula Gialla - Bentivoglio (BO)Ciclo di in
 contri mensili anno 2014:  14 gennaio  18 febbraio  18 marzo  15 aprile  2
 0 maggio  24 giugno  22 luglio  26 agosto  24 settembre  28 ottobre  25 no
 vembre  16 dicembre
URL:https://www.ausl.bologna.it/eventi/archivio/auslevent.2014-02-05.20730
 48563
END:VEVENT
END:VCALENDAR
