BEGIN:VCALENDAR
VERSION:2.0
PRODID:-//Plone.org//NONSGML plone.app.event//EN
X-WR-TIMEZONE:Europe/Rome
BEGIN:VEVENT
SUMMARY:Punto nascita di Bentivoglio 
DTSTART;VALUE=DATE-TIME:20140218T133000Z
DTEND;VALUE=DATE-TIME:20140218T153000Z
DTSTAMP;VALUE=DATE-TIME:20260421T102213Z
UID:f27fb0589d221592d39f40bfd7b8c435@127.0.0.1:8095
CATEGORIES:Incontro
CONTACT:051/6644008
CREATED;VALUE=DATE-TIME:20140205T142553Z
DESCRIPTION:Presentazione 
LAST-MODIFIED;VALUE=DATE-TIME:20150514T110311Z
LOCATION:Ospedale di Bentivoglio Aula Gialla - Bentivoglio (BO)
URL:https://www.ausl.bologna.it/eventi/archivio/auslevent.2014-02-05.02608
 31751
END:VEVENT
END:VCALENDAR
