BEGIN:VCALENDAR
VERSION:2.0
PRODID:-//Plone.org//NONSGML plone.app.event//EN
X-WR-TIMEZONE:Europe/Rome
BEGIN:VEVENT
SUMMARY:L'adolescenza 
DTSTART;VALUE=DATE-TIME:20140522T183000Z
DTEND;VALUE=DATE-TIME:20140522T203000Z
DTSTAMP;VALUE=DATE-TIME:20260421T101942Z
UID:a64bd961e7c2c6ff1ab8e7467a6b045a@127.0.0.1:8095
CATEGORIES:Conferenza
CREATED;VALUE=DATE-TIME:20140203T153845Z
DESCRIPTION:Il disorientamento dell'adulto
LAST-MODIFIED;VALUE=DATE-TIME:20150514T110128Z
LOCATION:Forlì - Sala Donati\, Corso Diaz\, 111
URL:https://www.ausl.bologna.it/eventi/archivio/auslevent.2014-02-03.80333
 14787
END:VEVENT
END:VCALENDAR
