BEGIN:VCALENDAR
VERSION:2.0
PRODID:-//Plone.org//NONSGML plone.app.event//EN
X-WR-TIMEZONE:Europe/Rome
BEGIN:VEVENT
SUMMARY:Il trauma del tradimento e il perdono nella vita amorosa 
DTSTART;VALUE=DATE-TIME:20140319T170000Z
DTEND;VALUE=DATE-TIME:20140319T183000Z
DTSTAMP;VALUE=DATE-TIME:20260421T083018Z
UID:378d0c94593942a43313c36a8cd1410d@127.0.0.1:8095
CATEGORIES:Incontro
CREATED;VALUE=DATE-TIME:20140129T152513Z
DESCRIPTION:Incontro 
LAST-MODIFIED;VALUE=DATE-TIME:20150514T110125Z
LOCATION:Salone comunale - Forlì 
URL:https://www.ausl.bologna.it/eventi/archivio/auslevent.2014-01-29.96482
 35559
END:VEVENT
END:VCALENDAR
