BEGIN:VCALENDAR
VERSION:2.0
PRODID:-//Plone.org//NONSGML plone.app.event//EN
X-WR-TIMEZONE:Europe/Rome
BEGIN:VEVENT
SUMMARY:Strumenti e metodi a confronto tra Emilia-Romagna e Brasile per la
  salute e il benessere delle comunità locali  
DTSTART;VALUE=DATE-TIME:20140210T083000Z
DTEND;VALUE=DATE-TIME:20140214T170000Z
DTSTAMP;VALUE=DATE-TIME:20260421T082934Z
UID:e3655ed1dda03a7f12c0307f1055bc67@127.0.0.1:8095
CATEGORIES:seminario
CONTACT:051/5277182 - 051/2094818\, brigida.marta@gmail.com
CREATED;VALUE=DATE-TIME:20140129T141033Z
DESCRIPTION:Seminario/Workshop 
LAST-MODIFIED;VALUE=DATE-TIME:20150514T110123Z
LOCATION:Regione Emilia-Romagna Sala B Terza Torre - Via della Fiera\, 8 B
 ologna 
URL:https://www.ausl.bologna.it/eventi/archivio/auslevent.2014-01-29.14855
 40475
END:VEVENT
END:VCALENDAR
