BEGIN:VCALENDAR
VERSION:2.0
PRODID:-//Plone.org//NONSGML plone.app.event//EN
X-WR-TIMEZONE:Europe/Rome
BEGIN:VEVENT
SUMMARY:Legge e desiderio 
DTSTART;VALUE=DATE-TIME:20140410T160000Z
DTEND;VALUE=DATE-TIME:20140410T180000Z
DTSTAMP;VALUE=DATE-TIME:20260420T092155Z
UID:a79ae2cd5df09374f227502678560dc7@127.0.0.1:8095
CATEGORIES:Conferenza
CREATED;VALUE=DATE-TIME:20140128T133415Z
DESCRIPTION:Legge e desiderio? La stessa cosa 
LAST-MODIFIED;VALUE=DATE-TIME:20140220T141748Z
LOCATION:Sala Silentium del Quartiere S. vitale\, vicolo Bolognetti\, 2 - 
 Bologna
URL:https://www.ausl.bologna.it/eventi/archivio/auslevent.2014-01-28.91853
 62224
END:VEVENT
END:VCALENDAR
