BEGIN:VCALENDAR
VERSION:2.0
PRODID:-//Plone.org//NONSGML plone.app.event//EN
X-WR-TIMEZONE:Europe/Rome
BEGIN:VEVENT
SUMMARY:Legge e desiderio 
DTSTART;VALUE=DATE-TIME:20140314T170000Z
DTEND;VALUE=DATE-TIME:20140314T190000Z
DTSTAMP;VALUE=DATE-TIME:20260420T075439Z
UID:ca0a8a5a51d5755f1747d55cdb9691c6@127.0.0.1:8095
CATEGORIES:Conferenza
CREATED;VALUE=DATE-TIME:20140128T133054Z
DESCRIPTION:La legge del desiderio
LAST-MODIFIED;VALUE=DATE-TIME:20140220T141747Z
LOCATION:Sala Silentium del Quartiere S. vitale\, vicolo Bolognetti\, 2 - 
 Bologna 
URL:https://www.ausl.bologna.it/eventi/archivio/auslevent.2014-01-28.69321
 36132
END:VEVENT
END:VCALENDAR
