BEGIN:VCALENDAR
VERSION:2.0
PRODID:-//Plone.org//NONSGML plone.app.event//EN
X-WR-TIMEZONE:Europe/Rome
BEGIN:VEVENT
SUMMARY:Un nuovo farmaco: l'Esercizio Fisico
DTSTART;VALUE=DATE-TIME:20140222T073000Z
DTEND;VALUE=DATE-TIME:20140222T123000Z
DTSTAMP;VALUE=DATE-TIME:20260421T083018Z
UID:8c6f5748c9d45eeea4085e5780efbf49@127.0.0.1:8095
ATTENDEE;CN="Accreditato ECM da AUSL di Bologna per tutte le professioni";
 ROLE=REQ-PARTICIPANT:Accreditato ECM da AUSL di Bologna per tutte le profe
 ssioni
CATEGORIES:Convegno
CREATED;VALUE=DATE-TIME:20140128T115738Z
DESCRIPTION:LE ISCRIZIONI SONO STATE CHIUSE PER RAGGIUNTI LIMITI DI CAPIEN
 ZA DELL'AULA
LAST-MODIFIED;VALUE=DATE-TIME:20140401T120349Z
LOCATION:Aula Magna “Falcone Borsellino” IIS Belluzzi – Fioravanti -
  Via G.D. Cassini\, n° 3 - Bologna
URL:https://www.ausl.bologna.it/eventi/archivio/auslevent.2014-01-28.16209
 04905
END:VEVENT
END:VCALENDAR
