BEGIN:VCALENDAR
VERSION:2.0
PRODID:-//Plone.org//NONSGML plone.app.event//EN
X-WR-TIMEZONE:Europe/Rome
BEGIN:VEVENT
SUMMARY:Centro di Ricerca e Formazione in Ecografia - Corsi 2014
DTSTART;VALUE=DATE-TIME:20140325T071500Z
DTEND;VALUE=DATE-TIME:20140327T160000Z
DTSTAMP;VALUE=DATE-TIME:20260421T083022Z
UID:5fc9cd455116b463e2684279d6b27ebd@127.0.0.1:8095
CATEGORIES:corso
CONTACT:051/585792\, info@progettomeeting.it
CREATED;VALUE=DATE-TIME:20140127T144713Z
DESCRIPTION:Ecografia Clinica 
LAST-MODIFIED;VALUE=DATE-TIME:20150514T105941Z
LOCATION:Aula Magna\, Ospedale Maggiore Largo B. Nigrisoli\, 2 - Bologna 
URL:https://www.ausl.bologna.it/eventi/archivio/auslevent.2014-01-27.74366
 62927
END:VEVENT
END:VCALENDAR
