BEGIN:VCALENDAR
VERSION:2.0
PRODID:-//Plone.org//NONSGML plone.app.event//EN
X-WR-TIMEZONE:Europe/Rome
BEGIN:VEVENT
SUMMARY:Centro di Ricerca e Formazione in Ecografia - Corsi 2014
DTSTART;VALUE=DATE-TIME:20140324T071500Z
DTEND;VALUE=DATE-TIME:20140324T172000Z
DTSTAMP;VALUE=DATE-TIME:20260421T083119Z
UID:0250ff1e8e81e976fe1360ecbcafbc76@127.0.0.1:8095
CATEGORIES:corso
CONTACT:051/585792\, info@progettomeeting.it
CREATED;VALUE=DATE-TIME:20140127T123756Z
DESCRIPTION:Ecografia Bedside 
LAST-MODIFIED;VALUE=DATE-TIME:20150514T105938Z
LOCATION:Aula Magna\, Ospedale Maggiore Largo B. Nigrisoli\, 2 Bologna 
URL:https://www.ausl.bologna.it/eventi/archivio/auslevent.2014-01-27.64611
 79459
END:VEVENT
END:VCALENDAR
