BEGIN:VCALENDAR
VERSION:2.0
PRODID:-//Plone.org//NONSGML plone.app.event//EN
X-WR-TIMEZONE:Europe/Rome
BEGIN:VEVENT
SUMMARY:Centro di Ricerca e Formazione in Ecografia - Corsi 2014
DTSTART;VALUE=DATE-TIME:20140328T072000Z
DTEND;VALUE=DATE-TIME:20140328T163000Z
DTSTAMP;VALUE=DATE-TIME:20260421T082940Z
UID:70f2ea3f816efd5519c665e99ac0eb1b@127.0.0.1:8095
CATEGORIES:corso
CONTACT:051/585792\, info@progettomeeting.it
CREATED;VALUE=DATE-TIME:20140127T145540Z
DESCRIPTION:Ecografia Infermieristica 
LAST-MODIFIED;VALUE=DATE-TIME:20150514T105944Z
LOCATION:Aula Magna\, Ospedale Maggiore Largo B. Nigrisoli\, 2 - Bologna
URL:https://www.ausl.bologna.it/eventi/archivio/auslevent.2014-01-27.24870
 34079
END:VEVENT
END:VCALENDAR
