BEGIN:VCALENDAR
VERSION:2.0
PRODID:-//Plone.org//NONSGML plone.app.event//EN
X-WR-TIMEZONE:Europe/Rome
BEGIN:VEVENT
SUMMARY:Ogni bambino chiede di essere amato!
DTSTART;VALUE=DATE-TIME:20140207T193000Z
DTEND;VALUE=DATE-TIME:20140207T213000Z
DTSTAMP;VALUE=DATE-TIME:20260420T080128Z
UID:aa540eabf2be3d0764fb9b19848a3312@127.0.0.1:8095
CATEGORIES:Presentazione
CONTACT:348 6091169
CREATED;VALUE=DATE-TIME:20140124T145156Z
DESCRIPTION:Presentazione del Progetto Kairos
LAST-MODIFIED;VALUE=DATE-TIME:20140220T141745Z
LOCATION:Sala Polivalente del Borgo dei Servizi - Via San donato\, 74 - Gr
 anarolo dell'Emilia (BO)
URL:https://www.ausl.bologna.it/eventi/archivio/auslevent.2014-01-24.45292
 72205
END:VEVENT
END:VCALENDAR
