BEGIN:VCALENDAR
VERSION:2.0
PRODID:-//Plone.org//NONSGML plone.app.event//EN
X-WR-TIMEZONE:Europe/Rome
BEGIN:VEVENT
SUMMARY:Genitori Moderni 
DTSTART;VALUE=DATE-TIME:20140131T193000Z
DTEND;VALUE=DATE-TIME:20140131T210000Z
DTSTAMP;VALUE=DATE-TIME:20260421T083022Z
UID:c2918224b1fa5f21d1643c80a74ff64a@127.0.0.1:8095
CATEGORIES:Incontro
CREATED;VALUE=DATE-TIME:20140122T132259Z
DESCRIPTION:Gruppo di Auto Muto Aiuto - 1° incontro 
LAST-MODIFIED;VALUE=DATE-TIME:20140220T141742Z
LOCATION:Associazione Lo Specchio Magico Via Emilia\, 384 Ozzano dell'Emil
 ia (BO)
URL:https://www.ausl.bologna.it/eventi/archivio/auslevent.2014-01-22.71979
 01911
END:VEVENT
END:VCALENDAR
