BEGIN:VCALENDAR
VERSION:2.0
PRODID:-//Plone.org//NONSGML plone.app.event//EN
X-WR-TIMEZONE:Europe/Rome
BEGIN:VEVENT
SUMMARY:Lo stalking di genere come rischio lavorativo trascurato 
DTSTART;VALUE=DATE-TIME:20140123T073000Z
DTEND;VALUE=DATE-TIME:20140124T120000Z
DTSTAMP;VALUE=DATE-TIME:20260421T082940Z
UID:46e576a125e5b0b0c0bb007b62a27efa@127.0.0.1:8095
CONTACT:0532/235067
CREATED;VALUE=DATE-TIME:20140122T143755Z
DESCRIPTION:Seminario 
LAST-MODIFIED;VALUE=DATE-TIME:20140220T141745Z
LOCATION:Sala della Musica Via Boccaleone\, 19 - Ferrara 
URL:https://www.ausl.bologna.it/eventi/archivio/auslevent.2014-01-22.60420
 96091
END:VEVENT
END:VCALENDAR
