BEGIN:VCALENDAR
VERSION:2.0
PRODID:-//Plone.org//NONSGML plone.app.event//EN
X-WR-TIMEZONE:Europe/Rome
BEGIN:VEVENT
SUMMARY:Un bel Welfare!
DTSTART;VALUE=DATE-TIME:20140129T080000Z
DTEND;VALUE=DATE-TIME:20140129T160000Z
DTSTAMP;VALUE=DATE-TIME:20260421T083130Z
UID:80990eb3e3dfee6ffb6e2780c01cad80@127.0.0.1:8095
CATEGORIES:Giornata di studio
CONTACT:051/5288528
CREATED;VALUE=DATE-TIME:20140122T133718Z
DESCRIPTION:La cultura nella costruzione del benessere personale e sociale
  
LAST-MODIFIED;VALUE=DATE-TIME:20140220T141743Z
LOCATION:Foyer Respighi - Teatro Comunale Largo Respighi\, 1 - Bologna 
URL:https://www.ausl.bologna.it/eventi/archivio/auslevent.2014-01-22.55069
 20405
END:VEVENT
END:VCALENDAR
