BEGIN:VCALENDAR
VERSION:2.0
PRODID:-//Plone.org//NONSGML plone.app.event//EN
X-WR-TIMEZONE:Europe/Rome
BEGIN:VEVENT
SUMMARY:Strategie operative di soccorso sulla scena del crimine 
DTSTART;VALUE=DATE-TIME:20140516T061500Z
DTEND;VALUE=DATE-TIME:20140516T160000Z
DTSTAMP;VALUE=DATE-TIME:20260421T083022Z
UID:029e4a615052aee36b0c9150b6ab97d2@127.0.0.1:8095
CATEGORIES:Convegno
CONTACT:340/6829198 - 346/2294226
CREATED;VALUE=DATE-TIME:20140122T135359Z
DESCRIPTION:Convegno nazionale 
LAST-MODIFIED;VALUE=DATE-TIME:20140220T141744Z
LOCATION:Sala Leonelli - Camera di Commercio di Modena - Via Ganaceto\, 13
 4 - Modena 
URL:https://www.ausl.bologna.it/eventi/archivio/auslevent.2014-01-22.22644
 56262
END:VEVENT
END:VCALENDAR
