BEGIN:VCALENDAR
VERSION:2.0
PRODID:-//Plone.org//NONSGML plone.app.event//EN
X-WR-TIMEZONE:Europe/Rome
BEGIN:VEVENT
SUMMARY:Corso di perfezionamento in Revisioni sistematiche e Meta-Analisi 
 Cochrane
DTSTART;VALUE=DATE-TIME:20140323T230000Z
DTEND;VALUE=DATE-TIME:20140325T230000Z
DTSTAMP;VALUE=DATE-TIME:20260421T083130Z
UID:e99ee83d9ab1923f54acbf7e3b977cc3@127.0.0.1:8095
CATEGORIES:corso
CONTACT:059/4223032 - 4223985
CREATED;VALUE=DATE-TIME:20140115T154559Z
DESCRIPTION:II Edizione 
LAST-MODIFIED;VALUE=DATE-TIME:20140220T141742Z
LOCATION:Dipartimento di Medicina Diagnostica\, clinica e di sanità Pubbl
 ica\, Università degli Studi di Modena e Reggio Emilia - Via del Pozzo\, 
 71 Modena 
URL:https://www.ausl.bologna.it/eventi/archivio/auslevent.2014-01-15.29904
 67002
END:VEVENT
END:VCALENDAR
