BEGIN:VCALENDAR
VERSION:2.0
PRODID:-//Plone.org//NONSGML plone.app.event//EN
X-WR-TIMEZONE:Europe/Rome
BEGIN:VEVENT
SUMMARY:PENSANDO AL FUTURO
DTSTART;VALUE=DATE-TIME:20140120T130000Z
DTEND;VALUE=DATE-TIME:20140120T170000Z
DTSTAMP;VALUE=DATE-TIME:20260421T082940Z
UID:04116f786a176b1ec7a189d246d656c8@127.0.0.1:8095
CATEGORIES:seminario
CONTACT:051/6597456
CREATED;VALUE=DATE-TIME:20140108T144305Z
DESCRIPTION:L'inserimento lavorativo nei luoghi di cura come agire coopera
 tivo tra vecchie e nuove generazioni 
LAST-MODIFIED;VALUE=DATE-TIME:20140220T141741Z
LOCATION:Aula ex Cappella Via S. Isaia\, 94 - Bologna 
URL:https://www.ausl.bologna.it/eventi/archivio/auslevent.2014-01-08.92104
 87209
END:VEVENT
END:VCALENDAR
