BEGIN:VCALENDAR
VERSION:2.0
PRODID:-//Plone.org//NONSGML plone.app.event//EN
X-WR-TIMEZONE:Europe/Rome
BEGIN:VEVENT
SUMMARY:NUOVA DOMICILIARITA'
DTSTART;VALUE=DATE-TIME:20140117T080000Z
DTEND;VALUE=DATE-TIME:20140117T163000Z
DTSTAMP;VALUE=DATE-TIME:20260421T082934Z
UID:c2afad9e649f5b2c3b83225aebe90725@127.0.0.1:8095
CATEGORIES:Convegno
CONTACT:051 598127/84/74
CREATED;VALUE=DATE-TIME:20140107T134110Z
DESCRIPTION:Esperienze\, scenari e proposte per il welfare metropolitano d
 el futuro 
LAST-MODIFIED;VALUE=DATE-TIME:20140220T141740Z
LOCATION:Pubblico - Il Teatro di Casalecchio di Reno - Piazza del Popolo\,
  1 - Casalecchio di Reno 
URL:https://www.ausl.bologna.it/eventi/archivio/auslevent.2014-01-07.84458
 64604
END:VEVENT
END:VCALENDAR
