BEGIN:VCALENDAR
VERSION:2.0
PRODID:-//Plone.org//NONSGML plone.app.event//EN
X-WR-TIMEZONE:Europe/Rome
BEGIN:VEVENT
SUMMARY:Musica per la Salute alla Casa dei Risvegli
DTSTART;VALUE=DATE-TIME:20131209T163000Z
DTEND;VALUE=DATE-TIME:20131209T183000Z
DTSTAMP;VALUE=DATE-TIME:20260420T183632Z
UID:fe811823d38f981ff59eb0c7886dcea8@127.0.0.1:8095
CATEGORIES:Spettacolo musicale
CREATED;VALUE=DATE-TIME:20131205T120942Z
DESCRIPTION:Marianne Gubri\, arpa classica. Musiche di Hasselmans\, Rossin
 i\, Cage
LAST-MODIFIED;VALUE=DATE-TIME:20140220T141046Z
LOCATION:Casa dei Risvegli "Luca De Nigris"\, Ospedale Bellaria\, via Altu
 ra 3 - Bologna
URL:https://www.ausl.bologna.it/eventi/archivio/auslevent.2013-12-05.24792
 71708
END:VEVENT
END:VCALENDAR
