BEGIN:VCALENDAR
VERSION:2.0
PRODID:-//Plone.org//NONSGML plone.app.event//EN
X-WR-TIMEZONE:Europe/Rome
BEGIN:VEVENT
SUMMARY:Musica per la Salute all'Ospedale di San Giovanni in Persiceto
DTSTART;VALUE=DATE-TIME:20131214T150000Z
DTEND;VALUE=DATE-TIME:20131214T150000Z
DTSTAMP;VALUE=DATE-TIME:20260420T183648Z
UID:236fb8e9c78a9a4ddf17eeed7e97bb8f@127.0.0.1:8095
CATEGORIES:Spettacolo musicale
CREATED;VALUE=DATE-TIME:20131204T110525Z
DESCRIPTION:Un coro oltre il terremoto. Musiche di Bach\, Perti\, Mozart\,
  Verdi.
LAST-MODIFIED;VALUE=DATE-TIME:20140220T141043Z
LOCATION:Ospedale SS Salvatore - Atrio Via Enzo Palma\, 1 - S. Giovanni in
  Persiceto (BO)
URL:https://www.ausl.bologna.it/eventi/archivio/auslevent.2013-12-04.83003
 88338
END:VEVENT
END:VCALENDAR
