BEGIN:VCALENDAR
VERSION:2.0
PRODID:-//Plone.org//NONSGML plone.app.event//EN
X-WR-TIMEZONE:Europe/Rome
BEGIN:VEVENT
SUMMARY:Musica per la Salute all'Ospedale Bellaria
DTSTART;VALUE=DATE-TIME:20131209T100000Z
DTEND;VALUE=DATE-TIME:20131209T120000Z
DTSTAMP;VALUE=DATE-TIME:20260420T183416Z
UID:35cd57d43b5bb4097bb6c474d40f7931@127.0.0.1:8095
CATEGORIES:Spettacolo musicale
CREATED;VALUE=DATE-TIME:20131203T135622Z
DESCRIPTION:Marianne Gubri\, arpa classica. Musiche di Hasselmans\, Rossin
 i\, Cage
LAST-MODIFIED;VALUE=DATE-TIME:20140220T141043Z
LOCATION:Ospedale Bellaria Pad. G Istituto Scienze Neurologiche - Via Altu
 ra\, 3 Bologna 
URL:https://www.ausl.bologna.it/eventi/archivio/auslevent.2013-12-03.70896
 37824
END:VEVENT
END:VCALENDAR
