BEGIN:VCALENDAR
VERSION:2.0
PRODID:-//Plone.org//NONSGML plone.app.event//EN
X-WR-TIMEZONE:Europe/Rome
BEGIN:VEVENT
SUMMARY:Musica per la Salute all'Ospedale Maggiore
DTSTART;VALUE=DATE-TIME:20131210T093000Z
DTEND;VALUE=DATE-TIME:20131210T113000Z
DTSTAMP;VALUE=DATE-TIME:20260420T183545Z
UID:097490aab5595a588addb7d2f282497d@127.0.0.1:8095
CATEGORIES:Spettacolo musicale
CREATED;VALUE=DATE-TIME:20131203T134940Z
DESCRIPTION:Fiorenzo Fiorito\, voce recitante e Guido Sodo\, chitarra. Fia
 be e racconti dalla tradizione popolare del mondo  
LAST-MODIFIED;VALUE=DATE-TIME:20140220T141042Z
LOCATION:Ospedale Maggiore "C.A. Pizzardi" Dipartimento Materno Infantile\
 , Largo Nigrisoli 2 - Bologna 
URL:https://www.ausl.bologna.it/eventi/archivio/auslevent.2013-12-03.18712
 77913
END:VEVENT
END:VCALENDAR
