BEGIN:VCALENDAR
VERSION:2.0
PRODID:-//Plone.org//NONSGML plone.app.event//EN
X-WR-TIMEZONE:Europe/Rome
BEGIN:VEVENT
SUMMARY:DONNE E CORAGGIO 
DTSTART;VALUE=DATE-TIME:20131128T130000Z
DTEND;VALUE=DATE-TIME:20131128T180000Z
DTSTAMP;VALUE=DATE-TIME:20260420T143351Z
UID:81a745286a9880a100263be950822b5c@127.0.0.1:8095
ATTENDEE;CN="Ingresso libero";ROLE=REQ-PARTICIPANT:Ingresso libero
CATEGORIES:Tavola rotonda
CONTACT:051/2091397
CREATED;VALUE=DATE-TIME:20131122T145055Z
DESCRIPTION:Riconoscere e valorizzare le competenze delle donne nella soci
 età contemporanea 
LAST-MODIFIED;VALUE=DATE-TIME:20140220T141037Z
LOCATION:Aula Magna di Pediatria\, Pad. 10 S. Orsola-Malpighi - Via Massar
 enti\, 11 Bologna 
URL:https://www.ausl.bologna.it/eventi/archivio/auslevent.2013-11-22.53869
 78263
END:VEVENT
END:VCALENDAR
