BEGIN:VCALENDAR
VERSION:2.0
PRODID:-//Plone.org//NONSGML plone.app.event//EN
X-WR-TIMEZONE:Europe/Rome
BEGIN:VEVENT
SUMMARY:Un treno che attraversa la democrazia. Generazione di un'opera\, l
 'opera di una generazione
DTSTART;VALUE=DATE-TIME:20131125T100000Z
DTEND;VALUE=DATE-TIME:20131125T110000Z
DTSTAMP;VALUE=DATE-TIME:20260421T083018Z
UID:a40ff07de6e8069b04c57fa0f07be0ae@127.0.0.1:8095
CATEGORIES:Dibattito
CREATED;VALUE=DATE-TIME:20131121T115155Z
DESCRIPTION:Discussione del libro di Gianni Cascone
LAST-MODIFIED;VALUE=DATE-TIME:20140220T141036Z
LOCATION:Bologna - Complesso Monumentale di S. Maria della Vita - Via Clav
 ature\, 8/10
URL:https://www.ausl.bologna.it/eventi/archivio/auslevent.2013-11-21.38985
 29741
END:VEVENT
END:VCALENDAR
