BEGIN:VCALENDAR
VERSION:2.0
PRODID:-//Plone.org//NONSGML plone.app.event//EN
X-WR-TIMEZONE:Europe/Rome
BEGIN:VEVENT
SUMMARY:Entanglement\, mente\, spiritualità e processi di guarigione
DTSTART;VALUE=DATE-TIME:20131129T150000Z
DTEND;VALUE=DATE-TIME:20131130T160000Z
DTSTAMP;VALUE=DATE-TIME:20260421T083119Z
UID:36f3dec0909e8919447b924f60a6a1b2@127.0.0.1:8095
CONTACT:338 4592390
CREATED;VALUE=DATE-TIME:20131120T150018Z
DESCRIPTION:Convegno internazionale 
LAST-MODIFIED;VALUE=DATE-TIME:20140220T141036Z
LOCATION:Bologna\, Sala Europa Fiera\, Palazzo dei Congressi - Piazza Cost
 ituzione\, 4a 
URL:https://www.ausl.bologna.it/eventi/archivio/auslevent.2013-11-20.42753
 49326
END:VEVENT
END:VCALENDAR
