BEGIN:VCALENDAR
VERSION:2.0
PRODID:-//Plone.org//NONSGML plone.app.event//EN
X-WR-TIMEZONE:Europe/Rome
BEGIN:VEVENT
SUMMARY:RAPIDO\, ANONIMO E SICURO 
DTSTART;VALUE=DATE-TIME:20131130T090000Z
DTEND;VALUE=DATE-TIME:20131201T180000Z
DTSTAMP;VALUE=DATE-TIME:20260420T093436Z
UID:c3d95fe7cda4c17cf56af0c0d13e18e9@127.0.0.1:8095
CATEGORIES:Campagna
CREATED;VALUE=DATE-TIME:20131120T151254Z
DESCRIPTION:Fai gratuitamente il test per l'HIV
LAST-MODIFIED;VALUE=DATE-TIME:20140220T141036Z
LOCATION:Bologna\, Piazza Maggiore 
URL:https://www.ausl.bologna.it/eventi/archivio/auslevent.2013-11-20.23127
 58983
END:VEVENT
END:VCALENDAR
