BEGIN:VCALENDAR
VERSION:2.0
PRODID:-//Plone.org//NONSGML plone.app.event//EN
X-WR-TIMEZONE:Europe/Rome
BEGIN:VEVENT
SUMMARY:La domanda che vola. Educare i bambini alla morte e al lutto.
DTSTART;VALUE=DATE-TIME:20131120T194500Z
DTEND;VALUE=DATE-TIME:20131120T213000Z
DTSTAMP;VALUE=DATE-TIME:20260421T083130Z
UID:61f2e14c6f84942aff2c81034a47d54f@127.0.0.1:8095
CONTACT:349 3169397
CREATED;VALUE=DATE-TIME:20131119T132953Z
DESCRIPTION:Ciclo di conversazioni sull'elaborazione del lutto 
LAST-MODIFIED;VALUE=DATE-TIME:20140220T140839Z
LOCATION:Università degli Studi di Ferrara Aula Magna Drigo - Via Paradis
 o\, 12 - Ferrara
URL:https://www.ausl.bologna.it/eventi/archivio/auslevent.2013-11-19.55074
 44762
END:VEVENT
END:VCALENDAR
