BEGIN:VCALENDAR
VERSION:2.0
PRODID:-//Plone.org//NONSGML plone.app.event//EN
X-WR-TIMEZONE:Europe/Rome
BEGIN:VEVENT
SUMMARY:Scenari futuri del Welfare 
DTSTART;VALUE=DATE-TIME:20131128T080000Z
DTEND;VALUE=DATE-TIME:20131128T120000Z
DTSTAMP;VALUE=DATE-TIME:20260421T082940Z
UID:8072beda14485aaf60c67f3cee53f24b@127.0.0.1:8095
CATEGORIES:Convegno
CONTACT:051/6584871\, direzione.sociosanitaria@ausl.bologna.it
CREATED;VALUE=DATE-TIME:20131119T130716Z
DESCRIPTION:Sono disponibili le presentazioni dei relatori nella sezione a
 llegati a fine documento
LAST-MODIFIED;VALUE=DATE-TIME:20140220T140838Z
LOCATION:Relais Bellaria\, Hotel & Congressi Via Altura\, 11 bis - Bologna
  
URL:https://www.ausl.bologna.it/eventi/archivio/auslevent.2013-11-19.13883
 76295
END:VEVENT
END:VCALENDAR
