BEGIN:VCALENDAR
VERSION:2.0
PRODID:-//Plone.org//NONSGML plone.app.event//EN
X-WR-TIMEZONE:Europe/Rome
BEGIN:VEVENT
SUMMARY:AMBULATORIO della GRAVIDANZA FISIOLOGICA A TERMINE E INDUZIONE DEL
  TRAVAGLIO 
DTSTART;VALUE=DATE-TIME:20131118T144500Z
DTEND;VALUE=DATE-TIME:20131118T144500Z
DTSTAMP;VALUE=DATE-TIME:20260421T083022Z
UID:34cf32dff9a6b35300b11334d2329dae@127.0.0.1:8095
CATEGORIES:Convegno
CONTACT:051/6079705
CREATED;VALUE=DATE-TIME:20131118T144855Z
DESCRIPTION:Le indicazioni della Commissione Nascita 
LAST-MODIFIED;VALUE=DATE-TIME:20140220T140832Z
LOCATION:Casa dei donatori di Sangue\, Aula AVIS - Via dell'Ospedale\, 20 
 - Bologna  
URL:https://www.ausl.bologna.it/eventi/archivio/auslevent.2013-11-18.67861
 27249
END:VEVENT
END:VCALENDAR
