BEGIN:VCALENDAR
VERSION:2.0
PRODID:-//Plone.org//NONSGML plone.app.event//EN
X-WR-TIMEZONE:Europe/Rome
BEGIN:VEVENT
SUMMARY:Valori e innovazione per il miglioramento della qualità e della s
 ostenibilità del sistema sociale e sanitario regionale 
DTSTART;VALUE=DATE-TIME:20131129T083000Z
DTEND;VALUE=DATE-TIME:20131129T160000Z
DTSTAMP;VALUE=DATE-TIME:20260421T083119Z
UID:346d1a69c6a5c150bcb127cdbcaa02fe@127.0.0.1:8095
CATEGORIES:Convegno
CONTACT:051/5277182-7191-7405
CREATED;VALUE=DATE-TIME:20131118T141339Z
DESCRIPTION:Convegno
LAST-MODIFIED;VALUE=DATE-TIME:20140220T140831Z
LOCATION:Aula Magna S. Lucia\, Via Castiglione\, 36 - Bologna 
URL:https://www.ausl.bologna.it/eventi/archivio/auslevent.2013-11-18.66460
 80810
END:VEVENT
END:VCALENDAR
