BEGIN:VCALENDAR
VERSION:2.0
PRODID:-//Plone.org//NONSGML plone.app.event//EN
X-WR-TIMEZONE:Europe/Rome
BEGIN:VEVENT
SUMMARY:Terapia del Dolore nell'adulto: quello che i professionisti devono
  sapere 
DTSTART;VALUE=DATE-TIME:20131123T080000Z
DTEND;VALUE=DATE-TIME:20131123T144000Z
DTSTAMP;VALUE=DATE-TIME:20260421T083130Z
UID:7b10b69aff368a37e5d615a815cf84cf@127.0.0.1:8095
CATEGORIES:corso
CONTACT:051/6644644
CREATED;VALUE=DATE-TIME:20131118T150041Z
DESCRIPTION:Corso teorico pratico 
LAST-MODIFIED;VALUE=DATE-TIME:20140220T140832Z
LOCATION:Aula Gialla\, Ospedale di Bentivoglio Via Marconi\, 35 - Bentivog
 lio (BO)
URL:https://www.ausl.bologna.it/eventi/archivio/auslevent.2013-11-18.58046
 19415
END:VEVENT
END:VCALENDAR
