BEGIN:VCALENDAR
VERSION:2.0
PRODID:-//Plone.org//NONSGML plone.app.event//EN
X-WR-TIMEZONE:Europe/Rome
BEGIN:VEVENT
SUMMARY:Qualificazione del personale medico e infermieristico addetto alla
  attività di raccolta del sangue e degli emocomponenti 
DTSTART;VALUE=DATE-TIME:20131123T073000Z
DTEND;VALUE=DATE-TIME:20131123T110000Z
DTSTAMP;VALUE=DATE-TIME:20260421T083022Z
UID:2e03aec80010e5b2ac8334667e8ec283@127.0.0.1:8095
ATTENDEE;CN="Il corso è destinato a:";ROLE=REQ-PARTICIPANT:Il corso è de
 stinato a:
ATTENDEE;CN="medici addetti alla attività di raccolta del sangue e degli 
 emocomponenti,";ROLE=REQ-PARTICIPANT:medici addetti alla attività di racc
 olta del sangue e degli emocomponenti,
ATTENDEE;CN="infermieri addetti alla attività di raccolta del sangue e de
 gli emocomponenti, tecnici in servizio presso i SIMT regionali.";ROLE=REQ-
 PARTICIPANT:infermieri addetti alla attività di raccolta del sangue e deg
 li emocomponenti, tecnici in servizio presso i SIMT regionali.
CATEGORIES:corso
CONTACT:051/3172955
CREATED;VALUE=DATE-TIME:20131118T154719Z
DESCRIPTION:Corso regionale
LAST-MODIFIED;VALUE=DATE-TIME:20140220T140834Z
LOCATION:Aula Magna\, campus del Policlinico di Modena - Via del Pozzo\, 7
 1 - Modena 
URL:https://www.ausl.bologna.it/eventi/archivio/auslevent.2013-11-18.44227
 03292
END:VEVENT
END:VCALENDAR
