BEGIN:VCALENDAR
VERSION:2.0
PRODID:-//Plone.org//NONSGML plone.app.event//EN
X-WR-TIMEZONE:Europe/Rome
BEGIN:VEVENT
SUMMARY:Scienze Neurologiche 2013 - In ricordo di Pasquale Montagna 
DTSTART;VALUE=DATE-TIME:20131210T143000Z
DTEND;VALUE=DATE-TIME:20131210T173000Z
DTSTAMP;VALUE=DATE-TIME:20260421T083119Z
UID:0e5b19b6c3c924d6844caeec59dec91c@127.0.0.1:8095
CATEGORIES:Incontro
CONTACT:051/263703
CREATED;VALUE=DATE-TIME:20131115T142758Z
DESCRIPTION:Incontro 
LAST-MODIFIED;VALUE=DATE-TIME:20140220T140830Z
LOCATION:Aula Magna Dipartimento di Scienze Biomediche e Neuromotorie - DI
 BINEM - Via U. Foscolo\, 7 Bologna 
URL:https://www.ausl.bologna.it/eventi/archivio/auslevent.2013-11-15.57064
 42448
END:VEVENT
END:VCALENDAR
