BEGIN:VCALENDAR
VERSION:2.0
PRODID:-//Plone.org//NONSGML plone.app.event//EN
X-WR-TIMEZONE:Europe/Rome
BEGIN:VEVENT
SUMMARY:Odontostomatologia nella persona disabile: dall'approccio multidis
 ciplinare alle innovazioni tecnologiche 
DTSTART;VALUE=DATE-TIME:20131114T070000Z
DTEND;VALUE=DATE-TIME:20131116T123000Z
DTSTAMP;VALUE=DATE-TIME:20260421T083119Z
UID:edc129a5bd257f8deceb5432b78804a1@127.0.0.1:8095
CATEGORIES:Convegno
CONTACT:011/5626264\, sioh2013@timeline20.com
CREATED;VALUE=DATE-TIME:20131113T113138Z
DESCRIPTION:XVII Congresso Nazionale
LAST-MODIFIED;VALUE=DATE-TIME:20140220T140828Z
LOCATION:Bologna - Hotel Relais Bellaria Via Altura\, 11 bis 
URL:https://www.ausl.bologna.it/eventi/archivio/auslevent.2013-11-13.58812
 26481
END:VEVENT
END:VCALENDAR
