BEGIN:VCALENDAR
VERSION:2.0
PRODID:-//Plone.org//NONSGML plone.app.event//EN
X-WR-TIMEZONE:Europe/Rome
BEGIN:VEVENT
SUMMARY:D'Annunzio a Bologna. Non so che agitazione va correndo: d'Annunzi
 o e il vortice del Compianto 
DTSTART;VALUE=DATE-TIME:20131108T170000Z
DTEND;VALUE=DATE-TIME:20131108T190000Z
DTSTAMP;VALUE=DATE-TIME:20260421T083130Z
UID:af97d69b2f44e97f1698adc44cad4346@127.0.0.1:8095
ATTENDEE;CN="Ingresso libero";ROLE=REQ-PARTICIPANT:Ingresso libero
CATEGORIES:Conferenza
CREATED;VALUE=DATE-TIME:20131107T115641Z
DESCRIPTION:Celebrazioni per i 150 della nascita di Gabriele d'Annunzio 
LAST-MODIFIED;VALUE=DATE-TIME:20140220T140826Z
LOCATION:Santuario di Santa Maria della Vita - Via Clavature\, 10 Bologna 
URL:https://www.ausl.bologna.it/eventi/archivio/auslevent.2013-11-07.00035
 84118
END:VEVENT
END:VCALENDAR
