BEGIN:VCALENDAR
VERSION:2.0
PRODID:-//Plone.org//NONSGML plone.app.event//EN
X-WR-TIMEZONE:Europe/Rome
BEGIN:VEVENT
SUMMARY:Non solo CUP
DTSTART;VALUE=DATE-TIME:20131106T193000Z
DTEND;VALUE=DATE-TIME:20131106T213000Z
DTSTAMP;VALUE=DATE-TIME:20260421T083018Z
UID:d864d1132d562cf42f72a7359221c65c@127.0.0.1:8095
CATEGORIES:Incontro
CREATED;VALUE=DATE-TIME:20131105T134332Z
DESCRIPTION:Politiche sanitarie a confronto 
LAST-MODIFIED;VALUE=DATE-TIME:20140220T140826Z
LOCATION:Palestra Comunale Via O. Brunelli 1 - Baricella (BO)
URL:https://www.ausl.bologna.it/eventi/archivio/auslevent.2013-11-05.83618
 49150
END:VEVENT
END:VCALENDAR
