BEGIN:VCALENDAR
VERSION:2.0
PRODID:-//Plone.org//NONSGML plone.app.event//EN
X-WR-TIMEZONE:Europe/Rome
BEGIN:VEVENT
SUMMARY:Partecipazione dei cittadini in sanità\, Comitati consultivi Mist
 i\, Assistenza territoriale e Case della Salute
DTSTART;VALUE=DATE-TIME:20131121T193000Z
DTEND;VALUE=DATE-TIME:20131121T213000Z
DTSTAMP;VALUE=DATE-TIME:20260421T082940Z
UID:2eb339a5eac441ca81023123d7cd6117@127.0.0.1:8095
CREATED;VALUE=DATE-TIME:20131105T114435Z
DESCRIPTION:Comitato Consultivo Misto del Distretto di Porretta Terme
LAST-MODIFIED;VALUE=DATE-TIME:20140220T140825Z
LOCATION:Sala P. Guidotti Biblioteca Comunale\, Galleria 1° Maggio 86/a -
  Vergato (BO)
URL:https://www.ausl.bologna.it/eventi/archivio/auslevent.2013-11-05.65704
 52934
END:VEVENT
END:VCALENDAR
