BEGIN:VCALENDAR
VERSION:2.0
PRODID:-//Plone.org//NONSGML plone.app.event//EN
X-WR-TIMEZONE:Europe/Rome
BEGIN:VEVENT
SUMMARY:Alimentazione\, Salute\, Ambiente ed Equità sociale 	 
DTSTART;VALUE=DATE-TIME:20131125T080000Z
DTEND;VALUE=DATE-TIME:20131125T170000Z
DTSTAMP;VALUE=DATE-TIME:20260421T063326Z
UID:9eaabb34c18db7eef08da0256b0aba0f@127.0.0.1:8095
ATTENDEE;CN="L’evento accreditato per max 100 partecipanti, attribuisce 
 8 crediti ECM per le seguenti professioni: assistente sanitario, biologo, 
 chimico, dietista, medico chirurgo, tecnico di prevenzione,veterinario";RO
 LE=REQ-PARTICIPANT:L’evento accreditato per max 100 partecipanti, attrib
 uisce 8 crediti ECM per le seguenti professioni: assistente sanitario, bio
 logo, chimico, dietista, medico chirurgo, tecnico di prevenzione,veterinar
 io
ATTENDEE;CN="Per avere diritto ai crediti è obbligatorio frequentare il 1
 00% del totale delle ore di formazione e superare il 75% dei quesiti final
 i.";ROLE=REQ-PARTICIPANT:Per avere diritto ai crediti è obbligatorio freq
 uentare il 100% del totale delle ore di formazione e superare il 75% dei q
 uesiti finali.
CONTACT:Rosa Domina\, Cristina Coppini\, 051 6224150\, rosa.domina@ausl.bo
 logna.it
CREATED;VALUE=DATE-TIME:20131104T133028Z
DESCRIPTION:Congresso Regionale SItI - Sezione Emilia Romagna
LAST-MODIFIED;VALUE=DATE-TIME:20140220T140825Z
LOCATION:Cappella Farnese - Comune di Bologna 
URL:https://www.ausl.bologna.it/eventi/archivio/auslevent.2013-11-04.34008
 45826
END:VEVENT
END:VCALENDAR
