BEGIN:VCALENDAR
VERSION:2.0
PRODID:-//Plone.org//NONSGML plone.app.event//EN
X-WR-TIMEZONE:Europe/Rome
BEGIN:VEVENT
SUMMARY:Da PartecipaSalute alle Giurie dei cittadini: cosa sta cambiando n
 el coinvolgimento dei cittadini in sanità
DTSTART;VALUE=DATE-TIME:20131113T090000Z
DTEND;VALUE=DATE-TIME:20131113T160000Z
DTSTAMP;VALUE=DATE-TIME:20260421T063238Z
UID:8f22fb3018167358eceb67a58434605d@127.0.0.1:8095
CATEGORIES:Convegno
CREATED;VALUE=DATE-TIME:20131104T130553Z
DESCRIPTION:Convegno 
LAST-MODIFIED;VALUE=DATE-TIME:20140220T140824Z
LOCATION:Milano - IRCCS-Istituto Mario Negri
URL:https://www.ausl.bologna.it/eventi/archivio/auslevent.2013-11-04.19456
 34443
END:VEVENT
END:VCALENDAR
