BEGIN:VCALENDAR
VERSION:2.0
PRODID:-//Plone.org//NONSGML plone.app.event//EN
X-WR-TIMEZONE:Europe/Rome
BEGIN:VEVENT
SUMMARY:Neomaggiorenni attivi. Voi come noi...noi come voi 
DTSTART;VALUE=DATE-TIME:20131106T130000Z
DTEND;VALUE=DATE-TIME:20131106T171500Z
DTSTAMP;VALUE=DATE-TIME:20260421T063237Z
UID:2cdcb59ae14793d95cc1e740ad754ea7@127.0.0.1:8095
CATEGORIES:Convegno
CONTACT:389/8711295
CREATED;VALUE=DATE-TIME:20131030T135717Z
DESCRIPTION:Per un nuovo servizio di supporto all'autonomia
LAST-MODIFIED;VALUE=DATE-TIME:20140220T140822Z
LOCATION:Bologna - Cappella Farnese\, Piazza Maggiore
URL:https://www.ausl.bologna.it/eventi/archivio/auslevent.2013-10-30.87173
 30177
END:VEVENT
END:VCALENDAR
