BEGIN:VCALENDAR
VERSION:2.0
PRODID:-//Plone.org//NONSGML plone.app.event//EN
X-WR-TIMEZONE:Europe/Rome
BEGIN:VEVENT
SUMMARY:PROMUOVERE La cultura e la metodologia dell'AUTO MUTUO AIUTO per f
 acilitare l'avvio di gruppi 
DTSTART;VALUE=DATE-TIME:20131205T080000Z
DTEND;VALUE=DATE-TIME:20131206T160000Z
DTSTAMP;VALUE=DATE-TIME:20260421T063237Z
UID:4e1c09d22bd30e2b163854735c96c3dc@127.0.0.1:8095
CONTACT:Valenzia Murgia\, 051 681 2772\, vmurgia@comunepersiceto.it
CREATED;VALUE=DATE-TIME:20131030T125643Z
DESCRIPTION:San Giovanni in Persiceto
LAST-MODIFIED;VALUE=DATE-TIME:20140220T140640Z
LOCATION:San Giovanni in Persiceto\, Sala Riunioni piano terraOspedale di 
 S. Giovanni in Persicetovia E. Palma 1
URL:https://www.ausl.bologna.it/eventi/archivio/auslevent.2013-10-30.53813
 33588
END:VEVENT
END:VCALENDAR
